BEGIN:VCALENDAR
VERSION:2.0
PRODID:-//pretix//pretix.eu//
BEGIN:VEVENT
UID:pretix-quadriga-q-95734-4832153@tickets.quadriga.eu
DTSTART;VALUE=DATE:20261207
DTEND;VALUE=DATE:20261211
DESCRIPTION:Tickets: https://tickets.quadriga.eu/q-95734/4832153/\nVeransta
 lter: Quadriga
DTSTAMP:20260419T124905Z
SUMMARY:Expert:in für Interne Kommunikation & KI
END:VEVENT
END:VCALENDAR
