BEGIN:VCALENDAR
VERSION:2.0
PRODID:-//pretix//pretix.eu//
BEGIN:VEVENT
UID:pretix-quadriga-q-95031-4784454@tickets.quadriga.eu
DTSTART;VALUE=DATE:20261027
DTEND;VALUE=DATE:20261031
DESCRIPTION:Tickets: https://tickets.quadriga.eu/q-95031/4784454/\nVeransta
 lter: Quadriga
DTSTAMP:20260419T153125Z
LOCATION:Berlin
SUMMARY:Expert:in für Krisenkommunikation
END:VEVENT
END:VCALENDAR
