BEGIN:VCALENDAR
VERSION:2.0
PRODID:-//pretix//pretix.eu//
BEGIN:VEVENT
UID:pretix-quadriga-q-54469-4695174@tickets.quadriga.eu
DTSTART;VALUE=DATE:20261209
DTEND;VALUE=DATE:20261211
DESCRIPTION:Tickets: https://tickets.quadriga.eu/q-54469/4695174/\nVeransta
 lter: Quadriga
DTSTAMP:20260419T124951Z
LOCATION:Berlin
SUMMARY:Advanced Business Negotiation IV
END:VEVENT
END:VCALENDAR
