BEGIN:VCALENDAR
VERSION:2.0
PRODID:-//pretix//pretix.eu//
BEGIN:VTIMEZONE
TZID:Europe/Berlin
BEGIN:STANDARD
DTSTART:20001029T040000
RRULE:FREQ=YEARLY;BYDAY=-1SU;BYMONTH=10
TZNAME:CET
TZOFFSETFROM:+0200
TZOFFSETTO:+0100
END:STANDARD
BEGIN:DAYLIGHT
DTSTART:20000326T030000
RRULE:FREQ=YEARLY;BYDAY=-1SU;BYMONTH=3
TZNAME:CEST
TZOFFSETFROM:+0100
TZOFFSETTO:+0200
END:DAYLIGHT
END:VTIMEZONE
BEGIN:VEVENT
UID:pretix-quadriga-q-5071-4664411@tickets.quadriga.eu
DTSTART;TZID=Europe/Berlin:20260410T093000
DTEND;TZID=Europe/Berlin:20260424T110000
DESCRIPTION:Tickets: https://tickets.quadriga.eu/q-5071/4664411/\nVeranstal
 ter: Quadriga
DTSTAMP:20260420T080759Z
SUMMARY:Change-Kommunikation | April-Start 2026
END:VEVENT
END:VCALENDAR
