BEGIN:VCALENDAR
VERSION:2.0
PRODID:-//pretix//pretix.eu//
BEGIN:VEVENT
UID:pretix-quadriga-q-22806-4695917@tickets.quadriga.eu
DTSTART;VALUE=DATE:20261207
DTEND;VALUE=DATE:20261209
DESCRIPTION:Tickets: https://tickets.quadriga.eu/q-22806/4695917/\nVeransta
 lter: Quadriga
DTSTAMP:20260419T125023Z
LOCATION:Berlin
SUMMARY:Verhandlungsrhetorik
END:VEVENT
END:VCALENDAR
