BEGIN:VCALENDAR
VERSION:2.0
PRODID:-//pretix//pretix.eu//
BEGIN:VTIMEZONE
TZID:Europe/Berlin
BEGIN:STANDARD
DTSTART:20001029T040000
RRULE:FREQ=YEARLY;BYDAY=-1SU;BYMONTH=10
TZNAME:CET
TZOFFSETFROM:+0200
TZOFFSETTO:+0100
END:STANDARD
BEGIN:DAYLIGHT
DTSTART:20000326T030000
RRULE:FREQ=YEARLY;BYDAY=-1SU;BYMONTH=3
TZNAME:CEST
TZOFFSETFROM:+0100
TZOFFSETTO:+0200
END:DAYLIGHT
END:VTIMEZONE
BEGIN:VEVENT
UID:pretix-quadriga-q-125202-4827055@tickets.quadriga.eu
DTSTART;TZID=Europe/Berlin:20260226T170000
DTEND;TZID=Europe/Berlin:20260513T183000
DESCRIPTION:Tickets: https://tickets.quadriga.eu/q-125202/4827055/\nVeranst
 alter: Quadriga
DTSTAMP:20260420T081141Z
SUMMARY:Public Affairs Manager mit Vertiefung KI in Public Affairs und poli
 tischer Kommunikation | Februar-Start 2026
END:VEVENT
END:VCALENDAR
