BEGIN:VCALENDAR
VERSION:2.0
PRODID:-//pretix//pretix.eu//
BEGIN:VEVENT
UID:pretix-quadriga-q-125037-4819140@tickets.quadriga.eu
DTSTART;VALUE=DATE:20261105
DTEND;VALUE=DATE:20261107
DESCRIPTION:Tickets: https://tickets.quadriga.eu/q-125037/4819140/\nVeranst
 alter: Quadriga
DTSTAMP:20260420T083633Z
LOCATION:Berlin
SUMMARY:Kommunikationsexpert:in für Diversity & Inclusion
END:VEVENT
END:VCALENDAR
