BEGIN:VCALENDAR
VERSION:2.0
PRODID:-//pretix//pretix.eu//
BEGIN:VEVENT
UID:pretix-quadriga-q-117049-4722163@tickets.quadriga.eu
DTSTART;VALUE=DATE:20261110
DTEND;VALUE=DATE:20261112
DESCRIPTION:Tickets: https://tickets.quadriga.eu/q-117049/4722163/\nVeranst
 alter: Quadriga
DTSTAMP:20260419T125023Z
LOCATION:Berlin
SUMMARY:Hinweisgebersysteme & Case Management professionell aufsetzen
END:VEVENT
END:VCALENDAR
