BEGIN:VCALENDAR
VERSION:2.0
PRODID:-//pretix//pretix.eu//
BEGIN:VEVENT
UID:pretix-quadriga-q-116844-4722167@tickets.quadriga.eu
DTSTART;VALUE=DATE:20261027
DTEND;VALUE=DATE:20261029
DESCRIPTION:Tickets: https://tickets.quadriga.eu/q-116844/4722167/\nVeranst
 alter: Quadriga
DTSTAMP:20260419T114531Z
LOCATION:Berlin
SUMMARY:Inner Leadership
END:VEVENT
END:VCALENDAR
