BEGIN:VCALENDAR
VERSION:2.0
PRODID:-//pretix//pretix.eu//
BEGIN:VEVENT
UID:pretix-quadriga-q-116481-4722007@tickets.quadriga.eu
DTSTART;VALUE=DATE:20261110
DTEND;VALUE=DATE:20261112
DESCRIPTION:Tickets: https://tickets.quadriga.eu/q-116481/4722007/\nVeranst
 alter: Quadriga
DTSTAMP:20260419T124951Z
LOCATION:München
SUMMARY:Creative Leadership
END:VEVENT
END:VCALENDAR
