BEGIN:VCALENDAR
VERSION:2.0
PRODID:-//pretix//pretix.eu//
BEGIN:VEVENT
UID:pretix-quadriga-q-115440-4723739@tickets.quadriga.eu
DTSTART;VALUE=DATE:20261116
DTEND;VALUE=DATE:20261117
DESCRIPTION:Tickets: https://tickets.quadriga.eu/q-115440/4723739/\nVeranst
 alter: Quadriga
DTSTAMP:20260419T124905Z
LOCATION:Berlin
SUMMARY:PR mit klaren Botschaften und starker Wirkung
END:VEVENT
END:VCALENDAR
