BEGIN:VCALENDAR
VERSION:2.0
PRODID:-//pretix//pretix.eu//
BEGIN:VEVENT
UID:pretix-quadriga-q-109337-4727270@tickets.quadriga.eu
DTSTART;VALUE=DATE:20261125
DTEND;VALUE=DATE:20261127
DESCRIPTION:Tickets: https://tickets.quadriga.eu/q-109337/4727270/\nVeranst
 alter: Quadriga
DTSTAMP:20260419T130412Z
LOCATION:Berlin
SUMMARY:Public Affairs für Fortgeschrittene
END:VEVENT
END:VCALENDAR
