BEGIN:VCALENDAR
VERSION:2.0
PRODID:-//pretix//pretix.eu//
BEGIN:VEVENT
UID:pretix-quadriga-q-108211-4696305@tickets.quadriga.eu
DTSTART;VALUE=DATE:20261231
DTEND;VALUE=DATE:20270101
DESCRIPTION:Tickets: https://tickets.quadriga.eu/q-108211/4696305/\nVeranst
 alter: Quadriga
DTSTAMP:20260420T100351Z
LOCATION:Virtueller Seminarraum
SUMMARY:Individuelles Persönlichkeitscoaching für nachhaltigen Erfolg
END:VEVENT
END:VCALENDAR
