BEGIN:VCALENDAR
VERSION:2.0
PRODID:-//pretix//pretix.eu//
BEGIN:VEVENT
UID:pretix-quadriga-q-103442-4695907@tickets.quadriga.eu
DTSTART;VALUE=DATE:20261022
DTEND;VALUE=DATE:20261024
DESCRIPTION:Tickets: https://tickets.quadriga.eu/q-103442/4695907/\nVeranst
 alter: Quadriga
DTSTAMP:20260419T114531Z
LOCATION:Virtueller Seminarraum - Teams
SUMMARY:Intensivtraining: Verhandlungsführung für Personaler:innen
END:VEVENT
END:VCALENDAR
