BEGIN:VCALENDAR
VERSION:2.0
PRODID:-//pretix//pretix.eu//
BEGIN:VEVENT
UID:pretix-quadriga-politikdaten-0@tickets.quadriga.eu
DTSTART;VALUE=DATE:21000101
DTEND;VALUE=DATE:21000102
DESCRIPTION:Tickets: https://tickets.quadriga.eu/politikdaten/\nVeranstalte
 r: Quadriga
DTSTAMP:20260420T083613Z
SUMMARY:Politische Adressdatenbank
END:VEVENT
END:VCALENDAR
