BEGIN:VCALENDAR
VERSION:2.0
PRODID:-//pretix//pretix.eu//
BEGIN:VEVENT
UID:pretix-quadriga-politikawardgala-0@tickets.quadriga.eu
DTSTART;VALUE=DATE:20250602
DTEND;VALUE=DATE:20250603
DESCRIPTION:Tickets: https://tickets.quadriga.eu/politikawardgala/\nVeranst
 alter: Quadriga
DTSTAMP:20260420T100839Z
LOCATION:Tipi am Kanzleramt
SUMMARY:Politikaward - Gala
END:VEVENT
END:VCALENDAR
