BEGIN:VCALENDAR
VERSION:2.0
PRODID:-//pretix//pretix.eu//
BEGIN:VEVENT
UID:pretix-quadriga-EXCELLENCEAWARDS-3360598@tickets.quadriga.eu
DTSTART;VALUE=DATE:21001231
DTEND;VALUE=DATE:21010101
DESCRIPTION:Tickets: https://tickets.quadriga.eu/EXCELLENCEAWARDS/3360598/\
 nOrganizer: Quadriga
DTSTAMP:20260419T140406Z
SUMMARY:European Excellence Awards 2022 - Application
END:VEVENT
END:VCALENDAR
