BEGIN:VCALENDAR
VERSION:2.0
PRODID:-//pretix//pretix.eu//
BEGIN:VEVENT
UID:pretix-quadriga-EEA-APP-2025-0@tickets.quadriga.eu
DTSTART;VALUE=DATE:21001231
DTEND;VALUE=DATE:21010101
DESCRIPTION:Tickets: https://tickets.quadriga.eu/EEA-APP-2025/\nOrganizer: 
 Quadriga
DTSTAMP:20260419T124828Z
SUMMARY:European Excellence Awards 2025 - Application
END:VEVENT
END:VCALENDAR
