BEGIN:VCALENDAR
VERSION:2.0
PRODID:-//pretix//pretix.eu//
BEGIN:VEVENT
UID:pretix-quadriga-DP-OK-4893719@tickets.quadriga.eu
DTSTART;VALUE=DATE:20260521
DTEND;VALUE=DATE:20260522
DESCRIPTION:Tickets: https://tickets.quadriga.eu/DP-OK/4893719/\nVeranstalt
 er: Quadriga
DTSTAMP:20260419T140535Z
SUMMARY:DPOK 2026
END:VEVENT
END:VCALENDAR
